BEGIN:VCALENDAR
VERSION:2.0
PRODID:-//Erfurt Tour - ECPv6.14.2//NONSGML v1.0//EN
CALSCALE:GREGORIAN
METHOD:PUBLISH
X-WR-CALNAME:Erfurt Tour
X-ORIGINAL-URL:https://erfurt-tour.de
X-WR-CALDESC:Veranstaltungen für Erfurt Tour
REFRESH-INTERVAL;VALUE=DURATION:PT1H
X-Robots-Tag:noindex
X-PUBLISHED-TTL:PT1H
BEGIN:VTIMEZONE
TZID:Europe/Berlin
BEGIN:DAYLIGHT
TZOFFSETFROM:+0100
TZOFFSETTO:+0200
TZNAME:CEST
DTSTART:20240331T010000
END:DAYLIGHT
BEGIN:STANDARD
TZOFFSETFROM:+0200
TZOFFSETTO:+0100
TZNAME:CET
DTSTART:20241027T010000
END:STANDARD
END:VTIMEZONE
BEGIN:VEVENT
DTSTART;TZID=Europe/Berlin:20240920T130000
DTEND;TZID=Europe/Berlin:20241007T000000
DTSTAMP:20260420T184819
CREATED:20240229T080840Z
LAST-MODIFIED:20240229T100131Z
UID:1467-1726837200-1728259200@erfurt-tour.de
SUMMARY:Erfurter Oktoberfest 2024
DESCRIPTION:Am 20. September 2024 öffnet um 11:00 Uhr der „Rummel“ auf dem Domplatz seine Pforten und lädt 17 Tage lang zum Besuch ein.\nAuf dem Festplatz werden zahlreiche Schaustellergeschäfte für Abwechslung auf den Karussells sowie an den Imbiss- und Süßwarenbuden sorgen. Im Festzelt können u. a. ein frisch gezapftes Paulaner Oktoberfestbier und Thüringer Bratwurst vom Holzkohlegrill genossen werden.\nIn diesem Jahr gastiert auch wieder ein großes Riesenrad auf dem Domplatz.\nMittwochs ist Familientag mit reduzierten Preisen.\nOffiziell eröffnet wird das Erfurter Oktoberfest 2024 am Freitag\, dem 20. September um 18:00 Uhr durch den Oberbürgermeister im Festzelt mit dem traditionellen Festbieranstich.\nSitzplatzreservierung\nSitzplatzreservierungen sind ab 01.06.2024 online möglich: www.festzelt-erfurt.de\nUnter dieser Internetadresse kann auch das musikalische Rahmenprogramm zeitnah eingesehen werden.\nÖffnungszeiten\nFreitag\, 20.09.2024 11:00 – 23:00 Uhr (Feiertag in Thüringen)\nSamstag\, 21.09.2024 11:00 – 23:00 Uhr\nSonntag\, 22.09.2024 11:00 – 22:00 Uhr\nMontag\, 23.09.2024 14:00 – 22:00 Uhr\nDienstag\, 24.09.2024 14:00 – 22:00 Uhr\nMittwoch\, 25.09.2024 14:00 – 22:00 Uhr\nDonnerstag\, 26.09.2024 14:00 – 22:00 Uhr\nFreitag\, 27.09.2024 14:00 – 23:00 Uhr\nSamstag\, 28.09.2024 11:00 – 23:00 Uhr\nSonntag\, 29.09.2024 11:00 – 22:00 Uhr\nMontag\, 30.09.2024 14:00 – 22:00 Uhr\nDienstag\, 01.10.2024 14:00 – 22:00 Uhr\nMittwoch\, 02.10.2024 14:00 – 23:00 Uhr\nDonnerstag\, 03.10.2024 11:00 – 22:00 Uhr (Feiertag)\nFreitag\, 04.10.2024 11:00 – 23:00 Uhr\nSamstag\, 05.10.2024 11:00 – 23:00 Uhr\nSonntag\, 06.10.2024 11:00 – 22:00 Uhr\nHinweis für Hundebesitzer: Auf dem Veranstaltungsgelände des Erfurter Oktoberfestes besteht für mitgeführte Hunde Leinen- und Maulkorbpflicht.
URL:https://erfurt-tour.de/veranstaltung/erfurter-oktoberfest-2024/
LOCATION:Domplatz Erfurt\, Domplatz\, Erfurt\, Thüringen\, 99084\, Deutschland
CATEGORIES:Veranstaltungen in Erfurt
END:VEVENT
BEGIN:VEVENT
DTSTART;TZID=Europe/Berlin:20240913T090000
DTEND;TZID=Europe/Berlin:20240914T170000
DTSTAMP:20260420T184819
CREATED:20240229T080732Z
LAST-MODIFIED:20240229T100421Z
UID:1465-1726218000-1726333200@erfurt-tour.de
SUMMARY:Cerealienmarkt - Erfurter Stauden- und Gartenmarkt
DESCRIPTION:Öffnungszeiten\n13. und 14. September 2024 jeweils von 7 bis 15 Uhr\nDie Farben des Herbstes genießen\nund auf dem Domplatz nach Herzenslust einkaufen\, das alles bietet der Cerealienmarkt.\nDie altrömische Göttin des Ackerbaus „Ceres“ ist die Namensgeberin dieser speziellen Veranstaltung\, die bereits zum 33. Mal auf dem Domplatz stattfindet.\nAuf dem Cerealienmarkt bieten Erfurter und Thüringer Gartenbaubetriebe sowie Händler alles\, was zur Herbst- und Winterbepflanzung benötigt wird\, an. Darüber hinaus erhält der Besucher von Fachleuten Pflanzideen für den herbstlichen Garten\, den Balkon oder die Terrasse.\nDer Herbst ist aber auch die Zeit der Ernte und eine breite Palette einheimischer Obst- und Gemüseerzeugnisse wird auf kürzestem Weg direkt vom Erzeuger zum Kunden angeboten. Auf dem Bauernmarkt in der Thüringer Landeshauptstadt dürfen natürlich die berühmten Thüringer Wurstwaren nicht fehlen und diese werden an vielen Ständen in bester Qualität – auch als Bratwurst vom Holzkohlerost – angeboten. Umrahmt wird der Cerealienmarkt mit Live-Musik und Kinderunterhaltung.
URL:https://erfurt-tour.de/veranstaltung/cerealienmarkt-erfurter-stauden-und-gartenmarkt/
LOCATION:Domplatz Erfurt\, Domplatz\, Erfurt\, Thüringen\, 99084\, Deutschland
CATEGORIES:Veranstaltungen in Erfurt
END:VEVENT
BEGIN:VEVENT
DTSTART;TZID=Europe/Berlin:20240614T200000
DTEND;TZID=Europe/Berlin:20240617T000000
DTSTAMP:20260420T184819
CREATED:20240229T080559Z
LAST-MODIFIED:20240229T100416Z
UID:1463-1718395200-1718582400@erfurt-tour.de
SUMMARY:47. Krämerbrückenfest 2024
DESCRIPTION:Einmal im Jahr\, am dritten Wochenende im Juni\, steht die Krämerbrücke ganz im Zeichen des größten Altstadtfestes in Thüringen. Im gesamten mittelalterlichen Stadtkern wird mit Gauklern\, Händlern und Musik gefeiert.\nErleben Sie vom 14. bis 16. Juni 2024 das 47. Krämerbrückenfest und tauchen Sie in ein buntes Fest der Kunst\, Kultur und Unterhaltung. Auf Plätzen und Höfen – über den Domplatz bis hin zum Theatervorplatz – sind neben bekannten Formaten auch viele Neue zu entdecken. Es wird ein grandioses Festwochenende mit einem abwechslungsreichen Programm und einer einzigartigen Atmosphäre – und das alles kostenlos und unter freiem Himmel!
URL:https://erfurt-tour.de/veranstaltung/47-kraemerbrueckenfest-2024/
LOCATION:Domplatz Erfurt\, Domplatz\, Erfurt\, Thüringen\, 99084\, Deutschland
CATEGORIES:Veranstaltungen in Erfurt
END:VEVENT
BEGIN:VEVENT
DTSTART;TZID=Europe/Berlin:20240510T090000
DTEND;TZID=Europe/Berlin:20240512T170000
DTSTAMP:20260420T184819
CREATED:20240229T080424Z
LAST-MODIFIED:20240229T100410Z
UID:1461-1715331600-1715533200@erfurt-tour.de
SUMMARY:Erfurter Blumen- und Gartenmarkt 2024
DESCRIPTION:Blumenliebhaber und Hobbygärtner stehen in den Startlöchern\, um ihre Gärten\, Balkone und Terrassen individuell zu gestalten und üppig blühen zu lassen.\nIm Rahmen des Erfurter Blumen- und Gartenmarktes vom 10. bis 12. Mai bestehen die besten Voraussetzungen\, um Qualitätsware vom Erfurter bzw. regionalem Erzeuger und Gärtner zu kaufen und sich vom Fachmann beraten zu lassen. Alle Liebhaber von Blumen und Pflanzen finden eine große Auswahl\, denn nicht nur das klassische Sortiment\, z. B. die Geranie\, ist im Angebot\, sondern auch neue Züchtungen und Trends bereichern die angebotene Vielfalt. Fachlich begleitet werden die drei Markttage unter anderem durch den Landesverband Gartenbau Thüringen e. V.
URL:https://erfurt-tour.de/veranstaltung/erfurter-blumen-und-gartenmarkt-2024/
LOCATION:Domplatz Erfurt\, Domplatz\, Erfurt\, Thüringen\, 99084\, Deutschland
CATEGORIES:Veranstaltungen in Erfurt
END:VEVENT
BEGIN:VEVENT
DTSTART;TZID=Europe/Berlin:20240430T204500
DTEND;TZID=Europe/Berlin:20240501T030000
DTSTAMP:20260420T184819
CREATED:20240229T080250Z
LAST-MODIFIED:20240229T100407Z
UID:1458-1714509900-1714532400@erfurt-tour.de
SUMMARY:Walpurgisnacht und Tanz in den Mai
DESCRIPTION:In Erfurt erfolgt der Start in den Mai bereits am 30. April ab dem späten Nachmittag mit Musik und Frühlingstänzen auf dem Domplatz. Die Hexen und Teufel geben sich noch nicht geschlagen und versuchen mit einem höllischen Spektakel letztmalig den Sieg des Frühlings zu verhindern.\nDer Maibaum als Symbol des Wonnemonats wird da bereits schon auf dem Domplatz aufgestellt sein.\nMit Schall\, Rauch und mystischen Klängen beginnt am 30. April um 21:15 Uhr das Hexen- und Teufelsspektakel\, das um 21:45 Uhr mit dem Entzünden des Maifeuers seinen Höhepunkt erreichen wird. Das Feuer wird dann bis nach Mitternacht den Domplatz erhellen\, um den Wonnemonat zu begrüßen. Diese beeindruckende Szenerie wird musikalisch untermalt.\n18:45 Uhr – Tanz um den Maibaum mit dem Thüringer Folklore Ensemble Erfurt\n21:15 Uhr – Hexen- und Teufelsspektakel mit Helmis Self Theater\n21:45 Uhr – Entzünden des Maifeuers anschl. Band „Rockpirat“
URL:https://erfurt-tour.de/veranstaltung/walpurgisnacht-und-tanz-in-den-mai/
LOCATION:Domplatz Erfurt\, Domplatz\, Erfurt\, Thüringen\, 99084\, Deutschland
CATEGORIES:Veranstaltungen in Erfurt
END:VEVENT
BEGIN:VEVENT
DTSTART;TZID=Europe/Berlin:20240420T100000
DTEND;TZID=Europe/Berlin:20240421T170000
DTSTAMP:20260420T184819
CREATED:20240229T075943Z
LAST-MODIFIED:20240229T100403Z
UID:1456-1713607200-1713718800@erfurt-tour.de
SUMMARY:Erfurter Autofrühling 2024
DESCRIPTION:Der Erfurter Domplatz wird zur größten Präsentationsfläche für Neuwagen und allem\, was zum Auto dazugehört. Gute Live-Musik\, Talkrunden über die neu­esten Trends in der Fahrzeugbranche\, Frühlingsmodenschauen und vieles mehr erwartet die Besucher zum Erfurter Autofrühling.
URL:https://erfurt-tour.de/veranstaltung/erfurter-autofruehling-2024/
LOCATION:Domplatz Erfurt\, Domplatz\, Erfurt\, Thüringen\, 99084\, Deutschland
CATEGORIES:Veranstaltungen in Erfurt
END:VEVENT
BEGIN:VEVENT
DTSTART;TZID=Europe/Berlin:20240330T110000
DTEND;TZID=Europe/Berlin:20240414T220000
DTSTAMP:20260420T184819
CREATED:20240228T181949Z
LAST-MODIFIED:20240229T100358Z
UID:1439-1711796400-1713132000@erfurt-tour.de
SUMMARY:Erfurter Altstadtfrühling 2024
DESCRIPTION:Ein attraktives Volksfest erwartet die Besucher mit einer Mischung aus Spannung\, Nervenkitzel und Spaß für die ganze Familie – täglich von 14 bis 22 Uhr\, samstags und sonntags\, sowie am Ostermontag bereits ab 11 Uhr.\nDas Volksfest hat mit vielen verschiedenen Schaustellergeschäften von Hightech bis Nostalgie für jeden Besucher etwas zu bieten.\nErleben Sie den Frühling in der historischen Erfurter Altstadt.\nErfreuen Sie sich an den geschmückten Schaustellergeschäften.\nDie Schausteller und die Stadtverwaltung laden Sie zum Erfurter Altstadtfrühling herzlich ein.
URL:https://erfurt-tour.de/veranstaltung/erfurter-altstadtfruehling-2024/
LOCATION:Domplatz Erfurt\, Domplatz\, Erfurt\, Thüringen\, 99084\, Deutschland
CATEGORIES:Veranstaltungen in Erfurt
END:VEVENT
END:VCALENDAR